BEGIN:VCALENDAR
VERSION:2.0
PRODID:-//Association Francis Hallé pour la forêt primaire - ECPv6.15.20//NONSGML v1.0//EN
CALSCALE:GREGORIAN
METHOD:PUBLISH
X-ORIGINAL-URL:https://www.foretprimaire-francishalle.org
X-WR-CALDESC:Évènements pour Association Francis Hallé pour la forêt primaire
REFRESH-INTERVAL;VALUE=DURATION:PT1H
X-Robots-Tag:noindex
X-PUBLISHED-TTL:PT1H
BEGIN:VTIMEZONE
TZID:Europe/Paris
BEGIN:DAYLIGHT
TZOFFSETFROM:+0100
TZOFFSETTO:+0200
TZNAME:CEST
DTSTART:20220327T010000
END:DAYLIGHT
BEGIN:STANDARD
TZOFFSETFROM:+0200
TZOFFSETTO:+0100
TZNAME:CET
DTSTART:20221030T010000
END:STANDARD
BEGIN:DAYLIGHT
TZOFFSETFROM:+0100
TZOFFSETTO:+0200
TZNAME:CEST
DTSTART:20230326T010000
END:DAYLIGHT
BEGIN:STANDARD
TZOFFSETFROM:+0200
TZOFFSETTO:+0100
TZNAME:CET
DTSTART:20231029T010000
END:STANDARD
BEGIN:DAYLIGHT
TZOFFSETFROM:+0100
TZOFFSETTO:+0200
TZNAME:CEST
DTSTART:20240331T010000
END:DAYLIGHT
BEGIN:STANDARD
TZOFFSETFROM:+0200
TZOFFSETTO:+0100
TZNAME:CET
DTSTART:20241027T010000
END:STANDARD
END:VTIMEZONE
BEGIN:VEVENT
DTSTART;TZID=Europe/Paris:20230706T112500
DTEND;TZID=Europe/Paris:20230706T130000
DTSTAMP:20260422T153559
CREATED:20240802T162549Z
LAST-MODIFIED:20240802T162549Z
UID:24717-1688642700-1688648400@www.foretprimaire-francishalle.org
SUMMARY:Assises de la biodiversité - questionnement sur la libre évolution des forêts
DESCRIPTION:L’association participera à un atelier dans le cadre de la treizième édition des Assises de la biodiversité\, qui prennent place cette année à Marseille\, du 5 au 7 juillet 2023. \nEt si laisser les forêts en libre évolution était la solution ? Cette table ronde\, qui fera suite à la projection du court métrage “Into the rewild”\, réunira l’UICN\, l’ONF\, le CEN Occitanie\, l’Association Francis Hallé et l’association États Sauvages pour discuter de l’importance de laisser les forêts évoluer librement. Nous échangerons sur les avantages de cette approche pour la biodiversité\, la lutte contre le changement climatique et la société en général. \nProgramme et informations pratiques des Assises de la biodiversité (l’événement en question s’intitule « Questionnement sur la libre évolution des forêts »\, Atelier B6) : https://www.idealco.fr/evenements/13es-assises-nationales-de-la-biodiversite-610/conferences
URL:https://www.foretprimaire-francishalle.org/evenement/assises-de-la-biodiversite-questionnement-sur-la-libre-evolution-des-forets/
LOCATION:Hôtel du département des Bouches du Rhône – Le Dôme\, Marseille\, 13013\, France
CATEGORIES:atelier
ORGANIZER;CN="IdealCo":MAILTO:s.noel@idealco.fr
END:VEVENT
END:VCALENDAR