BEGIN:VCALENDAR
VERSION:2.0
PRODID:-//Association Francis Hallé pour la forêt primaire - ECPv6.15.20//NONSGML v1.0//EN
CALSCALE:GREGORIAN
METHOD:PUBLISH
X-ORIGINAL-URL:https://www.foretprimaire-francishalle.org
X-WR-CALDESC:Évènements pour Association Francis Hallé pour la forêt primaire
REFRESH-INTERVAL;VALUE=DURATION:PT1H
X-Robots-Tag:noindex
X-PUBLISHED-TTL:PT1H
BEGIN:VTIMEZONE
TZID:Europe/Paris
BEGIN:DAYLIGHT
TZOFFSETFROM:+0100
TZOFFSETTO:+0200
TZNAME:CEST
DTSTART:20230326T010000
END:DAYLIGHT
BEGIN:STANDARD
TZOFFSETFROM:+0200
TZOFFSETTO:+0100
TZNAME:CET
DTSTART:20231029T010000
END:STANDARD
BEGIN:DAYLIGHT
TZOFFSETFROM:+0100
TZOFFSETTO:+0200
TZNAME:CEST
DTSTART:20240331T010000
END:DAYLIGHT
BEGIN:STANDARD
TZOFFSETFROM:+0200
TZOFFSETTO:+0100
TZNAME:CET
DTSTART:20241027T010000
END:STANDARD
BEGIN:DAYLIGHT
TZOFFSETFROM:+0100
TZOFFSETTO:+0200
TZNAME:CEST
DTSTART:20250330T010000
END:DAYLIGHT
BEGIN:STANDARD
TZOFFSETFROM:+0200
TZOFFSETTO:+0100
TZNAME:CET
DTSTART:20251026T010000
END:STANDARD
END:VTIMEZONE
BEGIN:VEVENT
DTSTART;TZID=Europe/Paris:20240613T193000
DTEND;TZID=Europe/Paris:20240613T230000
DTSTAMP:20260421T191942
CREATED:20240802T151126Z
LAST-MODIFIED:20240802T151455Z
UID:24646-1718307000-1718319600@www.foretprimaire-francishalle.org
SUMMARY:Animations pédagogiques autour de la forêt de la Mosson à Monpellier
DESCRIPTION:i.PEICC\, association de jeunesse et d’éducation populaire\, propose pour la première année sa Nuit des Forêts. Avec des animations pour toute la famille\, l’objectif est de porter un nouveau regard sur la Forêt de la Mosson\, Parc Sophie Desmarets avec les habitants du quartier de La Paillade\, d’inventer ensemble de nouveaux usages respectueux et vertueux\, ainsi qu’une attention au vivant qu’elle abrite. \nNotre association participera à l’animation de cette soirée du 13 juin qui s’annonce riche et vivante !
URL:https://www.foretprimaire-francishalle.org/evenement/animations-pedagogiques-autour-de-la-foret-de-la-mosson-a-monpellier/
LOCATION:Parc Sophie Desmarets\, Montpellier\, Parc Sophie Desmarets 1069-1179 Avenue de Heidelberg\, Montpellier\, 34080\, France
CATEGORIES:atelier
END:VEVENT
END:VCALENDAR