BEGIN:VCALENDAR
VERSION:2.0
PRODID:-//Association Francis Hallé pour la forêt primaire - ECPv6.15.20//NONSGML v1.0//EN
CALSCALE:GREGORIAN
METHOD:PUBLISH
X-ORIGINAL-URL:https://www.foretprimaire-francishalle.org
X-WR-CALDESC:Évènements pour Association Francis Hallé pour la forêt primaire
REFRESH-INTERVAL;VALUE=DURATION:PT1H
X-Robots-Tag:noindex
X-PUBLISHED-TTL:PT1H
BEGIN:VTIMEZONE
TZID:Europe/Paris
BEGIN:DAYLIGHT
TZOFFSETFROM:+0100
TZOFFSETTO:+0200
TZNAME:CEST
DTSTART:20250330T010000
END:DAYLIGHT
BEGIN:STANDARD
TZOFFSETFROM:+0200
TZOFFSETTO:+0100
TZNAME:CET
DTSTART:20251026T010000
END:STANDARD
BEGIN:DAYLIGHT
TZOFFSETFROM:+0100
TZOFFSETTO:+0200
TZNAME:CEST
DTSTART:20260329T010000
END:DAYLIGHT
BEGIN:STANDARD
TZOFFSETFROM:+0200
TZOFFSETTO:+0100
TZNAME:CET
DTSTART:20261025T010000
END:STANDARD
BEGIN:DAYLIGHT
TZOFFSETFROM:+0100
TZOFFSETTO:+0200
TZNAME:CEST
DTSTART:20270328T010000
END:DAYLIGHT
BEGIN:STANDARD
TZOFFSETFROM:+0200
TZOFFSETTO:+0100
TZNAME:CET
DTSTART:20271031T010000
END:STANDARD
END:VTIMEZONE
BEGIN:VEVENT
DTSTART;TZID=Europe/Paris:20260521T183000
DTEND;TZID=Europe/Paris:20260521T200000
DTSTAMP:20260422T135039
CREATED:20260420T114019Z
LAST-MODIFIED:20260420T114043Z
UID:26928-1779388200-1779393600@www.foretprimaire-francishalle.org
SUMMARY:Formation en ligne au kit pédagogique "Forêts naturelles" le 21 mai 2026
DESCRIPTION:Afin de sensibiliser les plus jeunes à la beauté et au fonctionnement des forêts en libre évolution\, l’association a développé un kit d’animation pour aborder cette thématique et propose chaque mois des formations pour les personnes qui souhaiteraient effectuer une animation sur ce sujet. \nLe kit d’animation est constitué d’une présentation visuelle\, montrant différents aspects de forêts naturelles\, ainsi que de compléments informatifs destinés à l’animateur ou animatrice pour diriger une séance. Il est donc construit sur un principe ouvert et adaptable : chaque session pourra prendre une direction différente\, en fonction des objectifs de séance et des sensibilités du public. \nIl s’adresse à toute personne qui souhaiterait aborder le sujet des forêts naturelles en libre évolution auprès d’un public jeune (dès la grande section de maternelle) – ou d’adultes non spécialistes (à l’école\, au travail\, etc.) en présentant les principales caractéristiques de ces forêts. Il appartient ainsi à chaque intervenant d’adapter la séance (vocabulaire utilisé et commentaires) selon le type de public. Par exemple pour les plus jeunes\, on emploie le mot forêt seulement\, puis selon l’âge\, on aborde des concepts plus complexes : forêt naturelle\, en libre évolution\, et enfin l’explication de ce qu’est une forêt primaire. \nGrâce à votre formation et aux documents que nous vous fournissons\, vous pourrez aller dans les écoles\, les collèges\, les lycées\, les maisons pour tous\, etc. et rencontrer le public à chaque fois que c’est possible. En expliquant le fonctionnement d’une forêt naturelle\, l’idée est aussi de faire percevoir que tout milieu\, même d’une petite superficie\, laissé naturel devient riche et complexe. \nCes formations sont assurées à pas mensuel par Rozenn Torquebiau\, lors de visio-conférences. Elles sont totalement gratuites. Inscription au bas de notre page dédiée : clic. \n\nL’objet de ce kit d’animation n’est pas de former au projet de renaissance d’une forêt primaire\, mais se situe bien à un niveau de sensibilisation sur les forêts en libre évolution. \nPhoto : © Jessica Buczek 
URL:https://www.foretprimaire-francishalle.org/evenement/formation-en-ligne-au-kit-pedagogique-forets-naturelles-le-21-mai-2026/
CATEGORIES:formation en ligne
ATTACH;FMTTYPE=image/jpeg:https://www.foretprimaire-francishalle.org/wp-content/uploads/2024/08/Bialowieza-©-Jessica-Buczek-BUCZEK-JB-20190517-4836-Ps.jpg
END:VEVENT
BEGIN:VEVENT
DTSTART;TZID=Europe/Paris:20260531T140000
DTEND;TZID=Europe/Paris:20260531T150000
DTSTAMP:20260422T135039
CREATED:20260420T101241Z
LAST-MODIFIED:20260420T101241Z
UID:26923-1780236000-1780239600@www.foretprimaire-francishalle.org
SUMMARY:Intervention au festival Jardins Jardin avec la Fédération BioGée à Paris
DESCRIPTION:À l’occasion de la 20e édition du Festival Jardins Jardin\, la Fédération BioGée participe pour la première fois à l’événement et y déploie un programme inédit consacré à la\nbiodiversité en ville. \nFédération réunissant des institutions scientifiques de référence dans les sciences du vivant et des géosciences\, BioGée conçoit pour cette édition un dispositif ambitieux intitulé\n« Symbiose »\, démontrant comment la recherche scientifique éclaire concrètement l’aménagement urbain\, la conception des jardins et l’éducation à la nature. \nÀ travers un grand jardin expérimental\, un espace de conférences et un lieu de rencontres\, BioGée affirme que la biodiversité urbaine ne relève ni du décor ni de la tendance\, mais d’un\nenjeu scientifique\, écologique et éducatif majeur. \n  \n© Marianne Seguin & Cie\nDamien Saraceni\, co-délégué général de l’association Francis Hallé pour la forêt primaire\, y présentera le projet de l’association à la suite le dimanche 31 mai à 14h. \nProgramme complet à retrouver sur le site de l’événement.
URL:https://www.foretprimaire-francishalle.org/evenement/intervention-au-festival-jardins-jardin-avec-la-federation-biogee-a-paris/
LOCATION:Parc de la Villa Windsor – Bois de Boulogne – Paris\, Villa Windsor\, 4 route du Champ d'entraînement\, Paris\, 75016\, France
CATEGORIES:ciné-debat,conférence
ATTACH;FMTTYPE=image/jpeg:https://www.foretprimaire-francishalle.org/wp-content/uploads/2026/04/Signature-Mail-2026.jpg
END:VEVENT
END:VCALENDAR